BEGIN:VCALENDAR
VERSION:2.0
PRODID:-//Town of Norlina - ECPv6.15.6//NONSGML v1.0//EN
CALSCALE:GREGORIAN
METHOD:PUBLISH
X-ORIGINAL-URL:https://townofnorlina.com
X-WR-CALDESC:Events for Town of Norlina
REFRESH-INTERVAL;VALUE=DURATION:PT1H
X-Robots-Tag:noindex
X-PUBLISHED-TTL:PT1H
BEGIN:VTIMEZONE
TZID:UTC
BEGIN:STANDARD
TZOFFSETFROM:+0000
TZOFFSETTO:+0000
TZNAME:UTC
DTSTART:20200101T000000
END:STANDARD
END:VTIMEZONE
BEGIN:VEVENT
DTSTART;TZID=UTC:20211231T080000
DTEND;TZID=UTC:20211231T170000
DTSTAMP:20260424T173105
CREATED:20210917T180303Z
LAST-MODIFIED:20210917T180303Z
UID:322-1640937600-1640970000@townofnorlina.com
SUMMARY:Town Hall Closed for New Year's!!
DESCRIPTION:Town Hall will be closed on Friday\, December 31st in observance of New Year’s Day!
URL:https://townofnorlina.com/event/town-hall-closed-for-new-years/
LOCATION:Town Hall 139 Hyco St.\, Norlina\, NC 27563
END:VEVENT
BEGIN:VEVENT
DTSTART;TZID=UTC:20211223T080000
DTEND;TZID=UTC:20211227T170000
DTSTAMP:20260424T173105
CREATED:20210917T180202Z
LAST-MODIFIED:20210917T180202Z
UID:320-1640246400-1640624400@townofnorlina.com
SUMMARY:Town Hall closed for Christmas!!
DESCRIPTION:Town Hall will be closed on Thursday\, December 23\, Friday\, December 24 and Monday\, December 27 for Christmas.
URL:https://townofnorlina.com/event/town-hall-closed-for-christmas/
LOCATION:Town Hall 139 Hyco St.\, Norlina\, NC 27563
END:VEVENT
BEGIN:VEVENT
DTSTART;TZID=UTC:20211206T193000
DTEND;TZID=UTC:20211206T203000
DTSTAMP:20260424T173105
CREATED:20210917T175544Z
LAST-MODIFIED:20210917T175544Z
UID:313-1638819000-1638822600@townofnorlina.com
SUMMARY:Board of Commissioners Meeting
DESCRIPTION:Board of Commissioners Meeting
URL:https://townofnorlina.com/event/board-of-commissioners-meeting-5/
LOCATION:Town Hall 139 Hyco St.\, Norlina\, NC 27563
END:VEVENT
BEGIN:VEVENT
DTSTART;TZID=UTC:20211125T080000
DTEND;TZID=UTC:20211126T170000
DTSTAMP:20260424T173105
CREATED:20210917T175931Z
LAST-MODIFIED:20210917T175931Z
UID:318-1637827200-1637946000@townofnorlina.com
SUMMARY:Town Hall closed for Thanksgiving Holiday!!
DESCRIPTION:Norlina Town Hall will be closed on Thursday\, November 25th and Friday\, November 26th for Thanksgiving Holiday!!
URL:https://townofnorlina.com/event/town-hall-closed-for-thanksgiving-holiday/
LOCATION:Town Hall 139 Hyco St.\, Norlina\, NC 27563
END:VEVENT
BEGIN:VEVENT
DTSTART;TZID=UTC:20211111T080000
DTEND;TZID=UTC:20211111T170000
DTSTAMP:20260424T173105
CREATED:20210917T175738Z
LAST-MODIFIED:20210917T175738Z
UID:315-1636617600-1636650000@townofnorlina.com
SUMMARY:Closed for Veteran's Day!!
DESCRIPTION:Norlina Town Hall will be closed today for Veteran’s Day.
URL:https://townofnorlina.com/event/closed-for-veterans-day/
LOCATION:Town Hall 139 Hyco St.\, Norlina\, NC 27563
END:VEVENT
BEGIN:VEVENT
DTSTART;TZID=UTC:20211101T193000
DTEND;TZID=UTC:20211101T203000
DTSTAMP:20260424T173105
CREATED:20210917T175445Z
LAST-MODIFIED:20210917T175445Z
UID:311-1635795000-1635798600@townofnorlina.com
SUMMARY:Board of Commissioners Meeting
DESCRIPTION:Board of Commissioners Meeting
URL:https://townofnorlina.com/event/board-of-commissioners-meeting-4/
LOCATION:Town Hall 139 Hyco St.\, Norlina\, NC 27563
END:VEVENT
BEGIN:VEVENT
DTSTART;TZID=UTC:20211004T193000
DTEND;TZID=UTC:20211004T203000
DTSTAMP:20260424T173105
CREATED:20210528T164751Z
LAST-MODIFIED:20210715T151549Z
UID:225-1633375800-1633379400@townofnorlina.com
SUMMARY:Board of Commissioners Meeting
DESCRIPTION:Work Session. All regular meetings and work sessions begin at 7:30 pm unless otherwise posted.
URL:https://townofnorlina.com/event/board-of-commissioners-meeting/
LOCATION:Town Hall 139 Hyco St.\, Norlina\, NC 27563
END:VEVENT
BEGIN:VEVENT
DTSTART;TZID=UTC:20210920T080000
DTEND;TZID=UTC:20210920T170000
DTSTAMP:20260424T173105
CREATED:20210917T180529Z
LAST-MODIFIED:20210917T180548Z
UID:324-1632124800-1632157200@townofnorlina.com
SUMMARY:Online Payments Now Accepted!!
DESCRIPTION:You can now pay your bills online; please view our announcements section to view the link.
URL:https://townofnorlina.com/event/only-payments-now-accepted/
LOCATION:Town Hall 139 Hyco St.\, Norlina\, NC 27563
END:VEVENT
BEGIN:VEVENT
DTSTART;TZID=UTC:20210907T193000
DTEND;TZID=UTC:20210907T203000
DTSTAMP:20260424T173105
CREATED:20210528T165139Z
LAST-MODIFIED:20210715T151458Z
UID:230-1631043000-1631046600@townofnorlina.com
SUMMARY:Board of Commissioners Meeting
DESCRIPTION:Regular Meeting. All regular meetings and work sessions begin at 7:30 pm unless otherwise posted.
URL:https://townofnorlina.com/event/board-of-commissioners-meeting-2/
LOCATION:Town Hall 139 Hyco St.\, Norlina\, NC 27563
END:VEVENT
BEGIN:VEVENT
DTSTART;TZID=UTC:20210802T193000
DTEND;TZID=UTC:20210802T203000
DTSTAMP:20260424T173105
CREATED:20210528T165158Z
LAST-MODIFIED:20210715T150428Z
UID:232-1627932600-1627936200@townofnorlina.com
SUMMARY:Board of Commissioners Meeting
DESCRIPTION:Regular Meeting. All regular meetings and work sessions begin at 7:30 pm unless otherwise posted.
URL:https://townofnorlina.com/event/board-of-commissioners-meeting-3/
LOCATION:Town Hall 139 Hyco St.\, Norlina\, NC 27563
END:VEVENT
END:VCALENDAR